BEGIN:VCALENDAR
VERSION:2.0
PRODID:-//WellMed Charitable Foundation - ECPv6.15.20//NONSGML v1.0//EN
CALSCALE:GREGORIAN
METHOD:PUBLISH
X-ORIGINAL-URL:https://www.wellmedcharitablefoundation.org
X-WR-CALDESC:Events for WellMed Charitable Foundation
REFRESH-INTERVAL;VALUE=DURATION:PT1H
X-Robots-Tag:noindex
X-PUBLISHED-TTL:PT1H
BEGIN:VTIMEZONE
TZID:America/Chicago
BEGIN:DAYLIGHT
TZOFFSETFROM:-0600
TZOFFSETTO:-0500
TZNAME:CDT
DTSTART:20170312T080000
END:DAYLIGHT
BEGIN:STANDARD
TZOFFSETFROM:-0500
TZOFFSETTO:-0600
TZNAME:CST
DTSTART:20171105T070000
END:STANDARD
BEGIN:DAYLIGHT
TZOFFSETFROM:-0600
TZOFFSETTO:-0500
TZNAME:CDT
DTSTART:20180311T080000
END:DAYLIGHT
BEGIN:STANDARD
TZOFFSETFROM:-0500
TZOFFSETTO:-0600
TZNAME:CST
DTSTART:20181104T070000
END:STANDARD
BEGIN:DAYLIGHT
TZOFFSETFROM:-0600
TZOFFSETTO:-0500
TZNAME:CDT
DTSTART:20190310T080000
END:DAYLIGHT
BEGIN:STANDARD
TZOFFSETFROM:-0500
TZOFFSETTO:-0600
TZNAME:CST
DTSTART:20191103T070000
END:STANDARD
END:VTIMEZONE
BEGIN:VEVENT
DTSTART;TZID=America/Chicago:20181017T100000
DTEND;TZID=America/Chicago:20181017T110000
DTSTAMP:20260420T105722
CREATED:20181024T163101Z
LAST-MODIFIED:20190128T180258Z
UID:10000028-1539770400-1539774000@www.wellmedcharitablefoundation.org
SUMMARY:Addressing common issues family caregivers face with Spencer Brown\, MSG\, LNFA\, CMC\, Care Manager
DESCRIPTION:There are many issues that a caregiver will face when providing care for someone. How do decide what level of care is needed? When is it time to look into long term care? How do you help but still maintain your loved one’s independence? Find out the answer to these questions and many more as Spencer Brown with Accountable Aging Care Management joins us to discuss common topics related to caregiving.
URL:https://www.wellmedcharitablefoundation.org/caregiver-support-caregiver-teleconnection-events/addressing-common-issues-family-caregivers-face-with-spencer-brown-msg-lnfa-cmc-care-manager/
CATEGORIES:Health and Wellness,Stress Management,Alzheimer's and Dementia
ATTACH;FMTTYPE=image/jpeg:https://www.wellmedcharitablefoundation.org/wp-content/uploads/2018/12/GettyImages-88147257_1200x600.jpg
END:VEVENT
BEGIN:VEVENT
DTSTART;TZID=America/Chicago:20180801T110000
DTEND;TZID=America/Chicago:20180801T120000
DTSTAMP:20260420T105722
CREATED:20181030T203548Z
LAST-MODIFIED:20190201T161900Z
UID:10000051-1533121200-1533124800@www.wellmedcharitablefoundation.org
SUMMARY:Compassion Fatigue with Amy Cunningham
DESCRIPTION:In this talk you will learn the how to differentiate between\, stress\, burnout\, and Compassion Fatigue. You will learn to recognize the signs and symptoms of Compassion Fatigue\, identify the trajectory\, and begin to implement the 5 resilience’s needed to assist you in achieving growth.
URL:https://www.wellmedcharitablefoundation.org/caregiver-support-caregiver-teleconnection-events/compassion-fatigue-with-amy-cunningham/
CATEGORIES:Health and Wellness,Stress Management
ATTACH;FMTTYPE=image/jpeg:https://www.wellmedcharitablefoundation.org/wp-content/uploads/2018/10/176678753_banner.jpg
END:VEVENT
BEGIN:VEVENT
DTSTART;TZID=America/Chicago:20180717T100000
DTEND;TZID=America/Chicago:20180717T110000
DTSTAMP:20260420T105722
CREATED:20181030T204759Z
LAST-MODIFIED:20181030T204759Z
UID:10000055-1531821600-1531825200@www.wellmedcharitablefoundation.org
SUMMARY:How to Fall in Love with Yourself with Cynthia Hazel\, M.A.
DESCRIPTION:We are taught from birth that we are to love others\, but relational love can be challenging. If caregivers don’t understand how to meet their own needs\, how can they be there for their charges? In the presentation\, we will explore the importance of loving ourselves and caring for our own needs as a necessary way to complete this task without losing ourselves and dealing with negative emotions\, like resentment.
URL:https://www.wellmedcharitablefoundation.org/caregiver-support-caregiver-teleconnection-events/how-to-fall-in-love-with-yourself-with-cynthia-hazel-m-a/
CATEGORIES:Health and Wellness,Stress Management
END:VEVENT
BEGIN:VEVENT
DTSTART;TZID=America/Chicago:20180627T120000
DTEND;TZID=America/Chicago:20180627T130000
DTSTAMP:20260420T105722
CREATED:20181108T175823Z
LAST-MODIFIED:20190201T161819Z
UID:10000059-1530100800-1530104400@www.wellmedcharitablefoundation.org
SUMMARY:Caregiving and Family Dynamics with Dr. Yvonne Lozano
DESCRIPTION:Family members are deeply and emotionally connected despite feeling distant or disconnected In this session- understanding family dynamics and caregiving begins with the family systems theory. Dr. Lozano will present types of underlying family dynamics and the impact of these dynamics on caregiving. Lastly\, this session will review five methods to assess your relationship with siblings and how caregivers are identified early in the development of the family.
URL:https://www.wellmedcharitablefoundation.org/caregiver-support-caregiver-teleconnection-events/caregiving-and-family-dynamics-with-dr-yvonne-lozano/
CATEGORIES:Health and Wellness,Stress Management
ATTACH;FMTTYPE=image/jpeg:https://www.wellmedcharitablefoundation.org/wp-content/uploads/2018/10/GettyImages-1034342418-copy.jpg
END:VEVENT
BEGIN:VEVENT
DTSTART;TZID=America/Chicago:20180614T090000
DTEND;TZID=America/Chicago:20180614T100000
DTSTAMP:20260420T105722
CREATED:20181108T193704Z
LAST-MODIFIED:20190201T161948Z
UID:10000066-1528966800-1528970400@www.wellmedcharitablefoundation.org
SUMMARY:Lucy Barylak\, MSW as "Dear Lucy"
DESCRIPTION:Caregivers will have the opportunity to call in and ask questions\, make comments and express yourself regarding the issues you face as a caregiver. You can submit your questions or comments by e-mail or phone.
URL:https://www.wellmedcharitablefoundation.org/caregiver-support-caregiver-teleconnection-events/lucy-barylak-msw-as-dear-lucy-4/
CATEGORIES:Health and Wellness,Stress Management
ATTACH;FMTTYPE=image/jpeg:https://www.wellmedcharitablefoundation.org/wp-content/uploads/2018/11/GettyImages-872803520_banner.jpg
END:VEVENT
BEGIN:VEVENT
DTSTART;TZID=America/Chicago:20180501T100000
DTEND;TZID=America/Chicago:20180501T110000
DTSTAMP:20260420T105722
CREATED:20181108T204232Z
LAST-MODIFIED:20181108T204232Z
UID:10000076-1525168800-1525172400@www.wellmedcharitablefoundation.org
SUMMARY:Talking about Suicide: Overcoming the Taboo with Stacey Freedenthal\, PhD\, LCSW
DESCRIPTION:Stacey Freedenthal\, PhD\, LCSW will discuss the need for caregivers to directly ask people at risk for suicide if they are having suicidal thoughts\, obstacles to having this conversation\, and ways to overcome those obstacles. This will include discussing specific techniques for asking about suicidal thoughts.
URL:https://www.wellmedcharitablefoundation.org/caregiver-support-caregiver-teleconnection-events/talking-about-suicide-overcoming-the-taboo-with-stacey-freedenthal-phd-lcsw/
CATEGORIES:Health and Wellness,Stress Management,Alzheimer's and Dementia
END:VEVENT
BEGIN:VEVENT
DTSTART;TZID=America/Chicago:20180426T110000
DTEND;TZID=America/Chicago:20180426T120000
DTSTAMP:20260420T105722
CREATED:20181108T204633Z
LAST-MODIFIED:20190201T160949Z
UID:10000078-1524740400-1524744000@www.wellmedcharitablefoundation.org
SUMMARY:Lucy Barylak\, MSW as "Dear Lucy"
DESCRIPTION:Caregivers will have the opportunity to call in and ask questions\, make comments and express yourself regarding the issues you face as a caregiver. You can submit your questions or comments by e-mail or phone.
URL:https://www.wellmedcharitablefoundation.org/caregiver-support-caregiver-teleconnection-events/lucy-barylak-msw-as-dear-lucy-6/
CATEGORIES:Health and Wellness,Stress Management
ATTACH;FMTTYPE=image/jpeg:https://www.wellmedcharitablefoundation.org/wp-content/uploads/2018/11/GettyImages-872803520_banner.jpg
END:VEVENT
BEGIN:VEVENT
DTSTART;TZID=America/Chicago:20180417T110000
DTEND;TZID=America/Chicago:20180417T120000
DTSTAMP:20260420T105722
CREATED:20181108T205027Z
LAST-MODIFIED:20190201T160854Z
UID:10000079-1523962800-1523966400@www.wellmedcharitablefoundation.org
SUMMARY:Developing Coping Strategies with Evalyn Greb\, LCSW
DESCRIPTION:Do you feel like you are coping with caregiving as well as you might? If not\, this session will discuss how to learn new techniques\, validate the ones you use that are working\, and provide the opportunity for other caregivers to share how they have developed coping strategies that make life better.
URL:https://www.wellmedcharitablefoundation.org/caregiver-support-caregiver-teleconnection-events/developing-coping-strategies-with-evalyn-greb-lcsw/
CATEGORIES:Health and Wellness,Stress Management
ATTACH;FMTTYPE=image/jpeg:https://www.wellmedcharitablefoundation.org/wp-content/uploads/2018/11/GettyImages-583666451_banner.jpg
END:VEVENT
BEGIN:VEVENT
DTSTART;TZID=America/Chicago:20180104T100000
DTEND;TZID=America/Chicago:20180104T110000
DTSTAMP:20260420T105722
CREATED:20181112T213014Z
LAST-MODIFIED:20190201T155220Z
UID:10000101-1515060000-1515063600@www.wellmedcharitablefoundation.org
SUMMARY:Managing Difficult Behaviors with Evalyn Greb\, LCSW
DESCRIPTION:Has your loved one’s behaviors become more difficult lately? This session will help participants find out why difficult behaviors happen and describe some coping strategies for a variety of the more common ones. You’ll be able to share your questions\, techniques\, and tips with other caregivers in a meaningful way. \n 
URL:https://www.wellmedcharitablefoundation.org/caregiver-support-caregiver-teleconnection-events/managing-difficult-behaviors-with-evalyn-greb-lcsw/
CATEGORIES:Health and Wellness,Stress Management,Alzheimer's and Dementia
ATTACH;FMTTYPE=image/jpeg:https://www.wellmedcharitablefoundation.org/wp-content/uploads/2018/10/DifficultBehaviours.jpg
END:VEVENT
END:VCALENDAR