BEGIN:VCALENDAR
VERSION:2.0
PRODID:-//WellMed Charitable Foundation - ECPv6.15.20//NONSGML v1.0//EN
CALSCALE:GREGORIAN
METHOD:PUBLISH
X-ORIGINAL-URL:https://www.wellmedcharitablefoundation.org
X-WR-CALDESC:Events for WellMed Charitable Foundation
REFRESH-INTERVAL;VALUE=DURATION:PT1H
X-Robots-Tag:noindex
X-PUBLISHED-TTL:PT1H
BEGIN:VTIMEZONE
TZID:America/Chicago
BEGIN:DAYLIGHT
TZOFFSETFROM:-0600
TZOFFSETTO:-0500
TZNAME:CDT
DTSTART:20240310T080000
END:DAYLIGHT
BEGIN:STANDARD
TZOFFSETFROM:-0500
TZOFFSETTO:-0600
TZNAME:CST
DTSTART:20241103T070000
END:STANDARD
BEGIN:DAYLIGHT
TZOFFSETFROM:-0600
TZOFFSETTO:-0500
TZNAME:CDT
DTSTART:20250309T080000
END:DAYLIGHT
BEGIN:STANDARD
TZOFFSETFROM:-0500
TZOFFSETTO:-0600
TZNAME:CST
DTSTART:20251102T070000
END:STANDARD
BEGIN:DAYLIGHT
TZOFFSETFROM:-0600
TZOFFSETTO:-0500
TZNAME:CDT
DTSTART:20260308T080000
END:DAYLIGHT
BEGIN:STANDARD
TZOFFSETFROM:-0500
TZOFFSETTO:-0600
TZNAME:CST
DTSTART:20261101T070000
END:STANDARD
BEGIN:DAYLIGHT
TZOFFSETFROM:-0600
TZOFFSETTO:-0500
TZNAME:CDT
DTSTART:20270314T080000
END:DAYLIGHT
BEGIN:STANDARD
TZOFFSETFROM:-0500
TZOFFSETTO:-0600
TZNAME:CST
DTSTART:20271107T070000
END:STANDARD
END:VTIMEZONE
BEGIN:VEVENT
DTSTART;TZID=America/Chicago:20251014T100000
DTEND;TZID=America/Chicago:20251014T110000
DTSTAMP:20260419T182456
CREATED:20250919T133402Z
LAST-MODIFIED:20251014T174816Z
UID:10000811-1760436000-1760439600@www.wellmedcharitablefoundation.org
SUMMARY:Comunicación compasiva y eficaz con una persona que vive con demencia
DESCRIPTION:Aprenda las mejores maneras de comunicarse con personas que viven con demencia. Hablaremos sobre cómo el lenguaje y la comprensión cambian debido a los efectos de la demencia\, y cómo la comunicación no verbal y la terapia de validación son las formas más eficaces y compasivas de conectar con sus seres queridos. \n 
URL:https://www.wellmedcharitablefoundation.org/caregiver-support-caregiver-teleconnection-events/comunicacion-compasiva-y-eficaz-con-una-persona-que-vive-con-demencia/
CATEGORIES:Health and Wellness,Spanish
ATTACH;FMTTYPE=image/jpeg:https://www.wellmedcharitablefoundation.org/wp-content/uploads/2025/09/Tia-Viera-Spanish-Oct.jpg
END:VEVENT
BEGIN:VEVENT
DTSTART;TZID=America/Chicago:20251111T100000
DTEND;TZID=America/Chicago:20251111T110000
DTSTAMP:20260419T182456
CREATED:20251022T135137Z
LAST-MODIFIED:20251111T182628Z
UID:10000819-1762855200-1762858800@www.wellmedcharitablefoundation.org
SUMMARY:Desafíos en el manejo de la demencia
DESCRIPTION:Su ser querido ha sido diagnosticado con demencia. ¿Ahora que? Las noticias devastadoras pueden ser abrumadoras y ciertamente confusas. Aprende que la demencia no es necesariamente la enfermedad de Alzheimer\, hay muchos tipos de demencia. También descubrirá que manejar los desafíos médicos y conductuales asociados a la demencia es extremadamente estresante y desgarrador. Nestor H. Praderio\, M.D. conducirá una discusión sobre algunos de los elementos clave con respecto a este tema\, que incluyen: \n-Cuestiones clave en el manejo de la demencia\n-Abordar los episodios de crisis de comportamiento.\n-Recomendaciones y recursos para cuidadores \n 
URL:https://www.wellmedcharitablefoundation.org/caregiver-support-caregiver-teleconnection-events/desafios-en-el-manejo-de-la-demencia-2/
CATEGORIES:Health and Wellness,Alzheimer's and Dementia,Spanish
ATTACH;FMTTYPE=image/jpeg:https://www.wellmedcharitablefoundation.org/wp-content/uploads/2025/10/Dr-Praderio-Nov.jpg
END:VEVENT
BEGIN:VEVENT
DTSTART;TZID=America/Chicago:20251210T100000
DTEND;TZID=America/Chicago:20251210T110000
DTSTAMP:20260419T182456
CREATED:20251118T145608Z
LAST-MODIFIED:20251210T190617Z
UID:10000823-1765360800-1765364400@www.wellmedcharitablefoundation.org
SUMMARY:“Cómo disfrutar la Navidad en momentos difíciles”
DESCRIPTION:La Navidad puede seguir siendo especial\, incluso si estás enfermo\, eres adulto mayor o cuidas a alguien. Aprenderemos como vivir las emociones sin culpa\, adaptar las celebraciones para que sean cómodas y sencillas\, y como valorar los pequeños momentos. \n 
URL:https://www.wellmedcharitablefoundation.org/caregiver-support-caregiver-teleconnection-events/como-disfrutar-la-navidad-en-momentos-dificiles/
CATEGORIES:Health and Wellness,Spanish
ATTACH;FMTTYPE=image/jpeg:https://www.wellmedcharitablefoundation.org/wp-content/uploads/2025/11/Letty-Guzman-Dec.jpg
END:VEVENT
BEGIN:VEVENT
DTSTART;TZID=America/Chicago:20260113T100000
DTEND;TZID=America/Chicago:20260113T110000
DTSTAMP:20260419T182456
CREATED:20260108T134215Z
LAST-MODIFIED:20260113T182158Z
UID:10000828-1768298400-1768302000@www.wellmedcharitablefoundation.org
SUMMARY:Una guía como vivir con la enfermedad de Alzheimer
DESCRIPTION:El Dr. Néstor Praderio\, M.D. realizará una presentación a fondo para los cuidadores de un ser querido con la enfermedad de Alzheimer. Conozca los numerosos roles que asumen los cuidadores a lo largo de las etapas de evolución de la enfermedad. Obtenga un mejor entendimiento sobre la enfermedad de Alzheimer y sus desafíos tanto desde la perspectiva del cuidador como del paciente. \nEl Dr. Praderio también discutirá consideraciones de planificación financiera y legal\, revisará consejos y recomendaciones para un “hogar seguro” sobre cómo manejar las actividades diarias con su ser querido. \n 
URL:https://www.wellmedcharitablefoundation.org/caregiver-support-caregiver-teleconnection-events/una-guia-como-vivir-con-la-enfermedad-de-alzheimer-4/
CATEGORIES:Health and Wellness,Spanish
ATTACH;FMTTYPE=image/jpeg:https://www.wellmedcharitablefoundation.org/wp-content/uploads/2025/02/Dr-Praderio-March.jpg
END:VEVENT
BEGIN:VEVENT
DTSTART;TZID=America/Chicago:20260210T130000
DTEND;TZID=America/Chicago:20260210T140000
DTSTAMP:20260419T182456
CREATED:20260116T154153Z
LAST-MODIFIED:20260210T204527Z
UID:10000831-1770728400-1770732000@www.wellmedcharitablefoundation.org
SUMMARY:La familia como equipo
DESCRIPTION:En “La familia como equipo” exploraremos cómo toda la familia puede participar en el cuidado de una persona viviendo con demencia\, tanto quienes están cerca como quienes viven a distancia. Hablaremos de cómo reconocer las fortalezas de cada miembro\, cómo comunicarse con respeto y claridad\, y cómo compartir responsabilidades de manera más justa. También veremos ideas prácticas para incluir a familiares que no pueden estar físicamente presentes\, usando la tecnología y acuerdos claros. El objetivo es que nadie se sienta solo con la carga del cuidado\, y que la familia pueda caminar unida en esta etapa tan importante. \n 
URL:https://www.wellmedcharitablefoundation.org/caregiver-support-caregiver-teleconnection-events/la-familia-como-equipo/
CATEGORIES:Health and Wellness,Alzheimer's and Dementia,Spanish
ATTACH;FMTTYPE=image/jpeg:https://www.wellmedcharitablefoundation.org/wp-content/uploads/2026/01/Tia-Spanish-Feb.jpg
END:VEVENT
BEGIN:VEVENT
DTSTART;TZID=America/Chicago:20260310T100000
DTEND;TZID=America/Chicago:20260310T110000
DTSTAMP:20260419T182456
CREATED:20260220T143830Z
LAST-MODIFIED:20260310T172236Z
UID:10000838-1773136800-1773140400@www.wellmedcharitablefoundation.org
SUMMARY:Intervenciones conductuales como tratamiento de primera línea para la demencia
DESCRIPTION:El deterioro cognitivo en pacientes con demencia es progresivo y crea una angustia psicológica significativa. Esto\, combinado con los trastornos conductuales de la demencia\, da como resultado desafíos aún mayores para los cuidadores. El grado de los síntomas asociados y el nivel de perturbación de la vida familiar\, así como la seguridad del paciente\, a menudo conducen a decisiones con respecto a la atención a largo plazo. Algunos de los trastornos conductuales más comunes asociados con la demencia son la agitación\, la agresión verbal (obscenidades\, acusaciones\, etc.)\, la agresión física (caminar\, morder\, golpear)\, la deambulación\, el acaparamiento\, los trastornos del sueño\, la inhibición sexual y las alucinaciones. El Dr. Néstor H. Praderío dirigirá una discusión sincera sobre el potencial de aumento de los peligros asociados con los problemas de comportamiento\, así como los estragos que pueden crear para el agotamiento del cuidador y el bienestar general del paciente. Incluirá una revisión de los enfoques no farmacológicos para abordar los trastornos conductuales generales. \n 
URL:https://www.wellmedcharitablefoundation.org/caregiver-support-caregiver-teleconnection-events/la-agitacion-en-la-demencia-3/
CATEGORIES:Health and Wellness,Spanish
ATTACH;FMTTYPE=image/jpeg:https://www.wellmedcharitablefoundation.org/wp-content/uploads/2026/02/Update-Praderio-March.jpg
END:VEVENT
BEGIN:VEVENT
DTSTART;TZID=America/Chicago:20260414T110000
DTEND;TZID=America/Chicago:20260414T120000
DTSTAMP:20260419T182456
CREATED:20260318T132809Z
LAST-MODIFIED:20260414T192134Z
UID:10000845-1776164400-1776168000@www.wellmedcharitablefoundation.org
SUMMARY:Comunicarse de manera efectiva
DESCRIPTION:A través de este taller\, aprenderemos cómo la demencia afecta la comunicación. Describir cómo un enfoque centrado en la persona puede ayudar a la comunicación. Compartiremos estrategias que le ayuden a comunicarse con una persona que vive con demencia. \n  \n 
URL:https://www.wellmedcharitablefoundation.org/caregiver-support-caregiver-teleconnection-events/comunicarse-de-manera-efectiva/
CATEGORIES:Health and Wellness,Spanish
ATTACH;FMTTYPE=image/jpeg:https://www.wellmedcharitablefoundation.org/wp-content/uploads/2026/03/Maxine-Vieyra-April.jpg
END:VEVENT
BEGIN:VEVENT
DTSTART;TZID=America/Chicago:20260512T090000
DTEND;TZID=America/Chicago:20260512T100000
DTSTAMP:20260419T182456
CREATED:20260416T204922Z
LAST-MODIFIED:20260416T204922Z
UID:10000854-1778576400-1778580000@www.wellmedcharitablefoundation.org
SUMMARY:Depresión en la etapa tardía de la vida
DESCRIPTION:¿Puede la depresión en etapas posteriores de la vida estar relacionada con el deterioro cognitivo o incluso con la demencia? El Dr. Nestor H. Praderio\, MD\, analizará los riesgos\, el diagnóstico y las opciones de tratamiento. Conozca los factores desencadenantes de esta enfermedad común que afecta a un número cada vez mayor de adultos de 65 años en adelante.
URL:https://www.wellmedcharitablefoundation.org/caregiver-support-caregiver-teleconnection-events/depresion-en-la-etapa-tardia-de-la-vida/
CATEGORIES:Health and Wellness,Alzheimer's and Dementia,Spanish
ATTACH;FMTTYPE=image/jpeg:https://www.wellmedcharitablefoundation.org/wp-content/uploads/2026/04/Dr-Praderio-May.jpg
END:VEVENT
END:VCALENDAR