BEGIN:VCALENDAR
VERSION:2.0
PRODID:-//WellMed Charitable Foundation - ECPv6.15.20//NONSGML v1.0//EN
CALSCALE:GREGORIAN
METHOD:PUBLISH
X-WR-CALNAME:WellMed Charitable Foundation
X-ORIGINAL-URL:https://www.wellmedcharitablefoundation.org
X-WR-CALDESC:Events for WellMed Charitable Foundation
REFRESH-INTERVAL;VALUE=DURATION:PT1H
X-Robots-Tag:noindex
X-PUBLISHED-TTL:PT1H
BEGIN:VTIMEZONE
TZID:America/Chicago
BEGIN:DAYLIGHT
TZOFFSETFROM:-0600
TZOFFSETTO:-0500
TZNAME:CDT
DTSTART:20240310T080000
END:DAYLIGHT
BEGIN:STANDARD
TZOFFSETFROM:-0500
TZOFFSETTO:-0600
TZNAME:CST
DTSTART:20241103T070000
END:STANDARD
BEGIN:DAYLIGHT
TZOFFSETFROM:-0600
TZOFFSETTO:-0500
TZNAME:CDT
DTSTART:20250309T080000
END:DAYLIGHT
BEGIN:STANDARD
TZOFFSETFROM:-0500
TZOFFSETTO:-0600
TZNAME:CST
DTSTART:20251102T070000
END:STANDARD
BEGIN:DAYLIGHT
TZOFFSETFROM:-0600
TZOFFSETTO:-0500
TZNAME:CDT
DTSTART:20260308T080000
END:DAYLIGHT
BEGIN:STANDARD
TZOFFSETFROM:-0500
TZOFFSETTO:-0600
TZNAME:CST
DTSTART:20261101T070000
END:STANDARD
END:VTIMEZONE
BEGIN:VEVENT
DTSTART;TZID=America/Chicago:20250311T100000
DTEND;TZID=America/Chicago:20250311T110000
DTSTAMP:20260419T094033
CREATED:20250225T135303Z
LAST-MODIFIED:20250311T171208Z
UID:10000770-1741687200-1741690800@www.wellmedcharitablefoundation.org
SUMMARY:Una guía como vivir con la enfermedad de Alzheimer
DESCRIPTION:El Dr. Néstor Praderio\, M.D. realizará una presentación a fondo para los cuidadores de un ser querido con la enfermedad de Alzheimer. Conozca los numerosos roles que asumen los cuidadores a lo largo de las etapas de evolución de la enfermedad. Obtenga un mejor entendimiento sobre la enfermedad de Alzheimer y sus desafíos tanto desde la perspectiva del cuidador como del paciente. \nEl Dr. Praderio también discutirá consideraciones de planificación financiera y legal\, revisará consejos y recomendaciones para un “hogar seguro” sobre cómo manejar las actividades diarias con su ser querido. \n 
URL:https://www.wellmedcharitablefoundation.org/caregiver-support-caregiver-teleconnection-events/una-guia-como-vivir-con-la-enfermedad-de-alzheimer-3/
CATEGORIES:Alzheimer's and Dementia,Spanish,Health and Wellness
ATTACH;FMTTYPE=image/jpeg:https://www.wellmedcharitablefoundation.org/wp-content/uploads/2025/02/Dr-Praderio-March.jpg
END:VEVENT
END:VCALENDAR