BEGIN:VCALENDAR
VERSION:2.0
PRODID:-//WellMed Charitable Foundation - ECPv6.15.20//NONSGML v1.0//EN
CALSCALE:GREGORIAN
METHOD:PUBLISH
X-ORIGINAL-URL:https://www.wellmedcharitablefoundation.org
X-WR-CALDESC:Events for WellMed Charitable Foundation
REFRESH-INTERVAL;VALUE=DURATION:PT1H
X-Robots-Tag:noindex
X-PUBLISHED-TTL:PT1H
BEGIN:VTIMEZONE
TZID:America/Chicago
BEGIN:DAYLIGHT
TZOFFSETFROM:-0600
TZOFFSETTO:-0500
TZNAME:CDT
DTSTART:20230312T080000
END:DAYLIGHT
BEGIN:STANDARD
TZOFFSETFROM:-0500
TZOFFSETTO:-0600
TZNAME:CST
DTSTART:20231105T070000
END:STANDARD
BEGIN:DAYLIGHT
TZOFFSETFROM:-0600
TZOFFSETTO:-0500
TZNAME:CDT
DTSTART:20240310T080000
END:DAYLIGHT
BEGIN:STANDARD
TZOFFSETFROM:-0500
TZOFFSETTO:-0600
TZNAME:CST
DTSTART:20241103T070000
END:STANDARD
BEGIN:DAYLIGHT
TZOFFSETFROM:-0600
TZOFFSETTO:-0500
TZNAME:CDT
DTSTART:20250309T080000
END:DAYLIGHT
BEGIN:STANDARD
TZOFFSETFROM:-0500
TZOFFSETTO:-0600
TZNAME:CST
DTSTART:20251102T070000
END:STANDARD
END:VTIMEZONE
BEGIN:VEVENT
DTSTART;TZID=America/Chicago:20240725T120000
DTEND;TZID=America/Chicago:20240725T130000
DTSTAMP:20260419T225855
CREATED:20240626T145631Z
LAST-MODIFIED:20240725T184618Z
UID:10000724-1721908800-1721912400@www.wellmedcharitablefoundation.org
SUMMARY:Reconocer la experiencia única de duelo de los cuidadores y encontrar la sanación
DESCRIPTION:Acompañe a Mónica Escamilla\, PsyD\, mientras analiza el papel que juegan la aflicción\, la pérdida y el duelo en la experiencia del estrés y el bienestar de los cuidadores.  Aprenderá qué hace que cada experiencia de duelo sea diferente y cómo tomar medidas para explorar el duelo y la pérdida que ayudarán en el proceso de curación para permitir el crecimiento de usted y de los demás. \n 
URL:https://www.wellmedcharitablefoundation.org/caregiver-support-caregiver-teleconnection-events/reconocer-la-experiencia-unica-de-duelo-de-los-cuidadores-y-encontrar-la-sanacion/
CATEGORIES:Health and Wellness,Spanish
ATTACH;FMTTYPE=image/jpeg:https://www.wellmedcharitablefoundation.org/wp-content/uploads/2024/06/Monica-Escamilla.jpg
END:VEVENT
END:VCALENDAR