BEGIN:VCALENDAR
VERSION:2.0
PRODID:-//WellMed Charitable Foundation - ECPv6.15.20//NONSGML v1.0//EN
CALSCALE:GREGORIAN
METHOD:PUBLISH
X-WR-CALNAME:WellMed Charitable Foundation
X-ORIGINAL-URL:https://www.wellmedcharitablefoundation.org
X-WR-CALDESC:Events for WellMed Charitable Foundation
REFRESH-INTERVAL;VALUE=DURATION:PT1H
X-Robots-Tag:noindex
X-PUBLISHED-TTL:PT1H
BEGIN:VTIMEZONE
TZID:America/Chicago
BEGIN:DAYLIGHT
TZOFFSETFROM:-0600
TZOFFSETTO:-0500
TZNAME:CDT
DTSTART:20230312T080000
END:DAYLIGHT
BEGIN:STANDARD
TZOFFSETFROM:-0500
TZOFFSETTO:-0600
TZNAME:CST
DTSTART:20231105T070000
END:STANDARD
BEGIN:DAYLIGHT
TZOFFSETFROM:-0600
TZOFFSETTO:-0500
TZNAME:CDT
DTSTART:20240310T080000
END:DAYLIGHT
BEGIN:STANDARD
TZOFFSETFROM:-0500
TZOFFSETTO:-0600
TZNAME:CST
DTSTART:20241103T070000
END:STANDARD
BEGIN:DAYLIGHT
TZOFFSETFROM:-0600
TZOFFSETTO:-0500
TZNAME:CDT
DTSTART:20250309T080000
END:DAYLIGHT
BEGIN:STANDARD
TZOFFSETFROM:-0500
TZOFFSETTO:-0600
TZNAME:CST
DTSTART:20251102T070000
END:STANDARD
END:VTIMEZONE
BEGIN:VEVENT
DTSTART;TZID=America/Chicago:20240522T110000
DTEND;TZID=America/Chicago:20240522T120000
DTSTAMP:20260420T022824
CREATED:20240416T194105Z
LAST-MODIFIED:20240522T191956Z
UID:10000707-1716375600-1716379200@www.wellmedcharitablefoundation.org
SUMMARY:Practicar una buena calidad de vida es la autopreservación en el cuidador
DESCRIPTION:¿Es usted un cuidador comprometido a cuidar a su ser querido pero se siente abrumado por las responsabilidades de su función? Desde los sentimientos de agotamiento físico; aislamiento; frustración; ansiedad ó falta de sueño\, los retos del cuidador son muy reales. \n¡Pero hay cosas que puede hacer para ayudarse! Cuando un cuidador se cuida a sí mismo\, todos se benefician. Compartiremos consejos que pueden ayudarle a cuidar de su ser querido y de usted mismo. Recuierde si no te cuidas a si mismo\, no podrá cuidar a nadie más. \n 
URL:https://www.wellmedcharitablefoundation.org/caregiver-support-caregiver-teleconnection-events/como-celebrar-cuando-eres-un-cuidador-2/
CATEGORIES:Health and Wellness,Spanish
ATTACH;FMTTYPE=image/jpeg:https://www.wellmedcharitablefoundation.org/wp-content/uploads/2024/04/Letty-May.jpg
END:VEVENT
END:VCALENDAR