BEGIN:VCALENDAR
VERSION:2.0
PRODID:-//WellMed Charitable Foundation - ECPv6.15.20//NONSGML v1.0//EN
CALSCALE:GREGORIAN
METHOD:PUBLISH
X-ORIGINAL-URL:https://www.wellmedcharitablefoundation.org
X-WR-CALDESC:Events for WellMed Charitable Foundation
REFRESH-INTERVAL;VALUE=DURATION:PT1H
X-Robots-Tag:noindex
X-PUBLISHED-TTL:PT1H
BEGIN:VTIMEZONE
TZID:America/Chicago
BEGIN:DAYLIGHT
TZOFFSETFROM:-0600
TZOFFSETTO:-0500
TZNAME:CDT
DTSTART:20230312T080000
END:DAYLIGHT
BEGIN:STANDARD
TZOFFSETFROM:-0500
TZOFFSETTO:-0600
TZNAME:CST
DTSTART:20231105T070000
END:STANDARD
BEGIN:DAYLIGHT
TZOFFSETFROM:-0600
TZOFFSETTO:-0500
TZNAME:CDT
DTSTART:20240310T080000
END:DAYLIGHT
BEGIN:STANDARD
TZOFFSETFROM:-0500
TZOFFSETTO:-0600
TZNAME:CST
DTSTART:20241103T070000
END:STANDARD
BEGIN:DAYLIGHT
TZOFFSETFROM:-0600
TZOFFSETTO:-0500
TZNAME:CDT
DTSTART:20250309T080000
END:DAYLIGHT
BEGIN:STANDARD
TZOFFSETFROM:-0500
TZOFFSETTO:-0600
TZNAME:CST
DTSTART:20251102T070000
END:STANDARD
END:VTIMEZONE
BEGIN:VEVENT
DTSTART;TZID=America/Chicago:20240222T100000
DTEND;TZID=America/Chicago:20240222T110000
DTSTAMP:20260420T064932
CREATED:20240119T130541Z
LAST-MODIFIED:20240222T183929Z
UID:10000687-1708596000-1708599600@www.wellmedcharitablefoundation.org
SUMMARY:Vida saludable para su cerebro y cuerpo: consejos de las últimas investigaciones
DESCRIPTION:Durante siglos\, hemos sabido que la salud del cerebro y del cuerpo están conectadas. Pero ahora\, la ciencia puede proporcionar información sobre cómo tomar decisiones de estilo de vida que pueden ayudarlo a mantener su cerebro y cuerpo saludables a medida que envejece. Únase a nosotros para aprender sobre la investigación en las áreas de dieta y nutrición\, ejercicio\, actividad cognitiva y compromiso social\, y use herramientas prácticas para ayudarlo a incorporar estas recomendaciones en un plan para un envejecimiento saludable. \n 
URL:https://www.wellmedcharitablefoundation.org/caregiver-support-caregiver-teleconnection-events/vida-saludable-para-su-cerebro-y-cuerpo-consejos-de-las-ultimas-investigaciones-2/
CATEGORIES:Health and Wellness,Spanish
ATTACH;FMTTYPE=image/jpeg:https://www.wellmedcharitablefoundation.org/wp-content/uploads/2024/01/Maxine-Vieyra-Feb.jpg
END:VEVENT
END:VCALENDAR