BEGIN:VCALENDAR
VERSION:2.0
PRODID:-//WellMed Charitable Foundation - ECPv6.15.20//NONSGML v1.0//EN
CALSCALE:GREGORIAN
METHOD:PUBLISH
X-WR-CALNAME:WellMed Charitable Foundation
X-ORIGINAL-URL:https://www.wellmedcharitablefoundation.org
X-WR-CALDESC:Events for WellMed Charitable Foundation
REFRESH-INTERVAL;VALUE=DURATION:PT1H
X-Robots-Tag:noindex
X-PUBLISHED-TTL:PT1H
BEGIN:VTIMEZONE
TZID:America/Chicago
BEGIN:DAYLIGHT
TZOFFSETFROM:-0600
TZOFFSETTO:-0500
TZNAME:CDT
DTSTART:20250309T080000
END:DAYLIGHT
BEGIN:STANDARD
TZOFFSETFROM:-0500
TZOFFSETTO:-0600
TZNAME:CST
DTSTART:20251102T070000
END:STANDARD
BEGIN:DAYLIGHT
TZOFFSETFROM:-0600
TZOFFSETTO:-0500
TZNAME:CDT
DTSTART:20260308T080000
END:DAYLIGHT
BEGIN:STANDARD
TZOFFSETFROM:-0500
TZOFFSETTO:-0600
TZNAME:CST
DTSTART:20261101T070000
END:STANDARD
BEGIN:DAYLIGHT
TZOFFSETFROM:-0600
TZOFFSETTO:-0500
TZNAME:CDT
DTSTART:20270314T080000
END:DAYLIGHT
BEGIN:STANDARD
TZOFFSETFROM:-0500
TZOFFSETTO:-0600
TZNAME:CST
DTSTART:20271107T070000
END:STANDARD
END:VTIMEZONE
BEGIN:VEVENT
DTSTART;TZID=America/Chicago:20260421T120000
DTEND;TZID=America/Chicago:20260421T130000
DTSTAMP:20260420T061410
CREATED:20260318T133209Z
LAST-MODIFIED:20260318T133209Z
UID:10000846-1776772800-1776776400@www.wellmedcharitablefoundation.org
SUMMARY:Managing Family Conflict About End-of-Life Decisions
DESCRIPTION:Only one-third of Americans have filled out an advance directive to let family members know what care they do or don’t want in the event they are unable to speak for themselves. That leaves many adult children to guess about what an aging parent with severe dementia would want–opening the door for intense debate and even fighting among those siblings. In this highly interactive workshop with psychologist Barry J. Jacobs\, Psy.D.\, co-author of The AARP Caregiver Answer Book\, we will talk about the importance of advance directives but also how adult children can draw upon their parent’s beliefs and values to make the right decision for them. Case illustrations will be used throughout.
URL:https://www.wellmedcharitablefoundation.org/caregiver-support-caregiver-teleconnection-events/managing-family-conflict-about-end-of-life-decisions/
CATEGORIES:Health and Wellness
ATTACH;FMTTYPE=image/jpeg:https://www.wellmedcharitablefoundation.org/wp-content/uploads/2026/03/Barry-Jacobs-April.jpg
END:VEVENT
BEGIN:VEVENT
DTSTART;TZID=America/Chicago:20260428T130000
DTEND;TZID=America/Chicago:20260428T140000
DTSTAMP:20260420T061410
CREATED:20260318T134041Z
LAST-MODIFIED:20260318T134041Z
UID:10000848-1777381200-1777384800@www.wellmedcharitablefoundation.org
SUMMARY:Caregiving Without a Roadmap: Insights for Cancer Caregivers
DESCRIPTION:Behind every cancer diagnosis is a caregiver — a parent\, partner\, sibling\, or friend — quietly navigating medical appointments\, emotional strain\, and financial pressures. This webinar explores the lived experiences captured in Caregiving Without a Roadmap: Insights from Cancer Caregivers\, a national listening-session report developed by the National Alliance for Caregiving in partnership with CancerCare. Through real caregiver stories\, we’ll examine the gaps in support\, the emotional toll of caregiving\, and the practical realities that often go unseen.
URL:https://www.wellmedcharitablefoundation.org/caregiver-support-caregiver-teleconnection-events/caregiving-without-a-roadmap-insights-for-cancer-caregivers/
CATEGORIES:Health and Wellness
ATTACH;FMTTYPE=image/jpeg:https://www.wellmedcharitablefoundation.org/wp-content/uploads/2026/03/Melina-Pineyro-April.jpg
END:VEVENT
END:VCALENDAR