BEGIN:VCALENDAR
VERSION:2.0
PRODID:-//WellMed Charitable Foundation - ECPv6.15.20//NONSGML v1.0//EN
CALSCALE:GREGORIAN
METHOD:PUBLISH
X-WR-CALNAME:WellMed Charitable Foundation
X-ORIGINAL-URL:https://www.wellmedcharitablefoundation.org
X-WR-CALDESC:Events for WellMed Charitable Foundation
REFRESH-INTERVAL;VALUE=DURATION:PT1H
X-Robots-Tag:noindex
X-PUBLISHED-TTL:PT1H
BEGIN:VTIMEZONE
TZID:America/Chicago
BEGIN:DAYLIGHT
TZOFFSETFROM:-0600
TZOFFSETTO:-0500
TZNAME:CDT
DTSTART:20250309T080000
END:DAYLIGHT
BEGIN:STANDARD
TZOFFSETFROM:-0500
TZOFFSETTO:-0600
TZNAME:CST
DTSTART:20251102T070000
END:STANDARD
BEGIN:DAYLIGHT
TZOFFSETFROM:-0600
TZOFFSETTO:-0500
TZNAME:CDT
DTSTART:20260308T080000
END:DAYLIGHT
BEGIN:STANDARD
TZOFFSETFROM:-0500
TZOFFSETTO:-0600
TZNAME:CST
DTSTART:20261101T070000
END:STANDARD
BEGIN:DAYLIGHT
TZOFFSETFROM:-0600
TZOFFSETTO:-0500
TZNAME:CDT
DTSTART:20270314T080000
END:DAYLIGHT
BEGIN:STANDARD
TZOFFSETFROM:-0500
TZOFFSETTO:-0600
TZNAME:CST
DTSTART:20271107T070000
END:STANDARD
END:VTIMEZONE
BEGIN:VEVENT
DTSTART;TZID=America/Chicago:20260527T100000
DTEND;TZID=America/Chicago:20260527T110000
DTSTAMP:20260420T063507
CREATED:20260414T133130Z
LAST-MODIFIED:20260414T133130Z
UID:10000853-1779876000-1779879600@www.wellmedcharitablefoundation.org
SUMMARY:Magnificent Seven Essential Legal Forms
DESCRIPTION:Virginia Hammerle will explain about the intricacies involving documents such as a Will\, Durable Power of Attorney\, Medical Power of Attorney\, HIPPA Release\, Designation of Guardian\, and Burial Instructions and will provide information on the use of trusts in estate planning.
URL:https://www.wellmedcharitablefoundation.org/caregiver-support-caregiver-teleconnection-events/magnificent-seven-essential-legal-forms/
CATEGORIES:Care Planning Public and Private Benefits,Health and Wellness
ATTACH;FMTTYPE=image/jpeg:https://www.wellmedcharitablefoundation.org/wp-content/uploads/2026/04/Virginia-Hammerle.jpg
END:VEVENT
END:VCALENDAR