BEGIN:VCALENDAR
VERSION:2.0
PRODID:-//WellMed Charitable Foundation - ECPv6.15.20//NONSGML v1.0//EN
CALSCALE:GREGORIAN
METHOD:PUBLISH
X-ORIGINAL-URL:https://www.wellmedcharitablefoundation.org
X-WR-CALDESC:Events for WellMed Charitable Foundation
REFRESH-INTERVAL;VALUE=DURATION:PT1H
X-Robots-Tag:noindex
X-PUBLISHED-TTL:PT1H
BEGIN:VTIMEZONE
TZID:America/Chicago
BEGIN:DAYLIGHT
TZOFFSETFROM:-0600
TZOFFSETTO:-0500
TZNAME:CDT
DTSTART:20250309T080000
END:DAYLIGHT
BEGIN:STANDARD
TZOFFSETFROM:-0500
TZOFFSETTO:-0600
TZNAME:CST
DTSTART:20251102T070000
END:STANDARD
BEGIN:DAYLIGHT
TZOFFSETFROM:-0600
TZOFFSETTO:-0500
TZNAME:CDT
DTSTART:20260308T080000
END:DAYLIGHT
BEGIN:STANDARD
TZOFFSETFROM:-0500
TZOFFSETTO:-0600
TZNAME:CST
DTSTART:20261101T070000
END:STANDARD
BEGIN:DAYLIGHT
TZOFFSETFROM:-0600
TZOFFSETTO:-0500
TZNAME:CDT
DTSTART:20270314T080000
END:DAYLIGHT
BEGIN:STANDARD
TZOFFSETFROM:-0500
TZOFFSETTO:-0600
TZNAME:CST
DTSTART:20271107T070000
END:STANDARD
END:VTIMEZONE
BEGIN:VEVENT
DTSTART;TZID=America/Chicago:20260309T100000
DTEND;TZID=America/Chicago:20260309T110000
DTSTAMP:20260420T080902
CREATED:20260304T155349Z
LAST-MODIFIED:20260309T173813Z
UID:10000843-1773050400-1773054000@www.wellmedcharitablefoundation.org
SUMMARY:Ask Dr. Tam Questions
DESCRIPTION:What kind of questions do you have about dementia? As a caregiver\, how do you survive the journey? Dr. Tam Cummings will cover quick stress relief tips and answer any questions you have about dementia. **Sponsored by VITAS Healthcare** \n 
URL:https://www.wellmedcharitablefoundation.org/caregiver-support-caregiver-teleconnection-events/ask-dr-tam-questions-22/
CATEGORIES:Health and Wellness,Alzheimer's and Dementia
ATTACH;FMTTYPE=image/jpeg:https://www.wellmedcharitablefoundation.org/wp-content/uploads/2025/02/Tam-Jan-2025.jpg
END:VEVENT
BEGIN:VEVENT
DTSTART;TZID=America/Chicago:20260312T100000
DTEND;TZID=America/Chicago:20260312T110000
DTSTAMP:20260420T080902
CREATED:20260220T150106Z
LAST-MODIFIED:20260312T173405Z
UID:10000839-1773309600-1773313200@www.wellmedcharitablefoundation.org
SUMMARY:Dear Lucy: Dementia and Sexually Inappropriate Behaviors
DESCRIPTION:Join Dear Lucy as she explains how and why inappropriate sexual behaviors may appear in dementia\, what situations can spark them\, and how caregivers can navigate these moments with confidence and compassion. \n  \n 
URL:https://www.wellmedcharitablefoundation.org/caregiver-support-caregiver-teleconnection-events/dear-lucy-dementia-and-sexually-inappropriate-behaviors/
CATEGORIES:Health and Wellness,Alzheimer's and Dementia
ATTACH;FMTTYPE=image/jpeg:https://www.wellmedcharitablefoundation.org/wp-content/uploads/2026/02/Dear-Lucy-March.jpg
END:VEVENT
BEGIN:VEVENT
DTSTART;TZID=America/Chicago:20260319T110000
DTEND;TZID=America/Chicago:20260319T120000
DTSTAMP:20260420T080902
CREATED:20260220T150613Z
LAST-MODIFIED:20260323T154941Z
UID:10000840-1773918000-1773921600@www.wellmedcharitablefoundation.org
SUMMARY:Alzheimer’s and Other Dementias: How to Prevent Them
DESCRIPTION:Dr. Bendheim will introduce the hallmarks of dementia\, specifically Alzheimer’s disease (AD); including the common symptoms\, clinical and pathological features\, diagnostic criteria\, and risk factors. He will share the FDA approved treatments for AD as well as the landmark results of the Alzheimer’s Association POINTER multi-component lifestyle study\, published in 2025. Dr. Bendheim will also discuss BrainSavers\, the company he founded\, and introduce the Brain+Body Total Fitness Program—an evidence based program offered both through live\, instructor led classes and online. \n 
URL:https://www.wellmedcharitablefoundation.org/caregiver-support-caregiver-teleconnection-events/alzheimers-and-other-dementias-how-to-prevent-them-3/
CATEGORIES:Health and Wellness,Alzheimer's and Dementia
ATTACH;FMTTYPE=image/jpeg:https://www.wellmedcharitablefoundation.org/wp-content/uploads/2026/02/Dr-Bendheim-March.jpg
END:VEVENT
END:VCALENDAR